BEGIN:VCALENDAR
VERSION:2.0
PRODID:-//ChamberMaster//Event Calendar 2.0//EN
METHOD:PUBLISH
X-PUBLISHED-TTL:P3D
REFRESH-INTERVAL:P3D
CALSCALE:GREGORIAN
BEGIN:VEVENT
DTSTART:20180318T013000Z
DTEND:20180318T065500Z
X-MICROSOFT-CDO-ALLDAYEVENT:FALSE
SUMMARY:St Patrick's Day Dinner & Dance
DESCRIPTION:St. Peter's Church Hosts a\n\nSt. Patrick's Day Dinner & Dance\n\n\n\nTraditional corned beef and cabbage\, potatoes and carrots dinner. Also includes soda bread and dessert.\n\n\n\nBar will be open for purchase of certain "spirit\," sodas and water\n\nEntertainment by: The Rockaways\n\n 50/50 Lucky Pot of Gold Raffle\n\n\n\nNo Host Cocktails: 6pm - 7pm \n\nDinner: 7pm - 8pm \n\nDance: 8pm - Midnight
X-ALT-DESC;FMTTYPE=text/html:St. Peter&#39\;s Church Hosts a<br />\n<span style="font-size:14px\;"><strong>St. Patrick&#39\;s Day Dinner &amp\; Dance</strong></span><br />\n<br />\nTraditional corned beef and cabbage\, potatoes&nbsp\;and carrots dinner. Also includes soda bread and dessert.<br />\n<br />\nBar will be open for purchase of certain &quot\;spirit\,&quot\; sodas and water<br />\nEntertainment by: The Rockaways<br />\n&#8203\;50/50 Lucky Pot of Gold Raffle<br />\n<br />\nNo Host Cocktails: 6pm - 7pm&nbsp\;<br />\nDinner: 7pm&nbsp\;- 8pm&nbsp\;<br />\nDance: 8pm&nbsp\;- Midnight<br />\n<br />\n<br />\n&nbsp\;
LOCATION:St Peter's Church 700 Oddstad Blvd. Pacifica\, CA 94044
UID:e.1153.16218
SEQUENCE:3
DTSTAMP:20260424T014608Z
URL:http://pacificachamber.chambermaster.com/events/details/st-patrick-s-day-dinner-dance-16218
END:VEVENT

END:VCALENDAR
