BEGIN:VCALENDAR
VERSION:2.0
PRODID:-//ChamberMaster//Event Calendar 2.0//EN
METHOD:PUBLISH
X-PUBLISHED-TTL:P3D
REFRESH-INTERVAL:P3D
CALSCALE:GREGORIAN
BEGIN:VEVENT
DTSTART:20180331T170000Z
DTEND:20180331T181500Z
X-MICROSOFT-CDO-ALLDAYEVENT:FALSE
SUMMARY:Spring Egg Hunt
DESCRIPTION:Pacifica Parks\, Beaches & Recreation Department Hosts: \n\nSpring Egg Hunt at Frontierland Park\n\n\n\nEnjoy a Jelly Bean Contest & Golden Eggs will be available in each age division\n\n\n\nDivisions:\n\n2 & under w/a parent\n\n3-4 yrs\n\n5-6 yrs\n\n7-8 yrs\n\n9-10 yrs\n\n\n\nPlease Note: Egg Hunt begins promptly at 10am and lasts approximately 15 minutes. Please allow 20 minutes to park and walk to event prior to 10am. Don't miss a bunny beat!
X-ALT-DESC;FMTTYPE=text/html:Pacifica Parks\, Beaches &amp\; Recreation Department Hosts:&nbsp\;<br />\n<strong>Spring Egg Hunt at Frontierland Park</strong><br />\n<br />\nEnjoy a Jelly Bean Contest &amp\; Golden Eggs will be available in each age division<br />\n<br />\nDivisions:<br />\n2 &amp\; under w/a parent<br />\n3-4 yrs<br />\n5-6 yrs<br />\n7-8 yrs<br />\n9-10 yrs<br />\n<br />\n<span style="color:#FF0000\;"><strong>Please Note</strong></span>: Egg Hunt begins promptly at 10am and lasts approximately 15 minutes. <span style="color:#FF0000\;"><em><strong>Please allow 20 minutes to park and walk to event prior to 10am.</strong></em></span> Don&#39\;t miss a bunny beat!
LOCATION:Frontierland Park 900 Yosemite Dr. Pacifica\, CA 94044
UID:e.1153.16344
SEQUENCE:3
DTSTAMP:20260424T165032Z
URL:http://pacificachamber.chambermaster.com/events/details/spring-egg-hunt-16344
END:VEVENT

END:VCALENDAR
