BEGIN:VCALENDAR
VERSION:2.0
PRODID:-//ChamberMaster//Event Calendar 2.0//EN
METHOD:PUBLISH
X-PUBLISHED-TTL:P3D
REFRESH-INTERVAL:P3D
CALSCALE:GREGORIAN
BEGIN:VEVENT
DTSTART:20180330T230000Z
DTEND:20180330T231500Z
X-MICROSOFT-CDO-ALLDAYEVENT:FALSE
SUMMARY:Spring Egg Hunt
DESCRIPTION:Parks\, Beaches & Recreation Department Presents: \n\nA Spring Egg Hunt!\n\n\n\nGet ready for Easter by participating in the annual Easter Egg Hunt!\n\n\n\nEnjoy a fun Jelly Bean Contest & Golden eggs will be available in each age division. \n\n\n\nDivisions:\n\n2 & under \n\n3-4 years old\n\n5-6 years old\n\n7-8 years old\n\n9-10 years old\n\n\n\nPlease Note: Egg hunting begins promptly at 4pm and only last 15 minutes. Please allow 20 minutes to find parking and walk to event prior to 4pm.
X-ALT-DESC;FMTTYPE=text/html:Parks\, Beaches &amp\; Recreation Department Presents:&nbsp\;<br />\n<span style="font-size:16px\;"><strong>A Spring Egg Hunt!</strong></span><br />\n<br />\nGet ready for Easter by participating in the annual Easter Egg Hunt!<br />\n<br />\nEnjoy a fun Jelly Bean Contest &amp\; Golden eggs will be available in each age division.&nbsp\;<br />\n<br />\nDivisions:<br />\n2 &amp\; under&nbsp\;<br />\n3-4 years old<br />\n5-6 years old<br />\n7-8 years old<br />\n9-10 years old<br />\n<br />\n<strong><span style="color:#FF0000\;">Please Note</span></strong>: Egg hunting begins promptly at 4pm and only last 15 minutes.&nbsp\;<span style="color:#FF0000\;"><u><em><strong>Please allow 20 minutes</strong></em></u></span> to find parking and walk to event prior to 4pm.&nbsp\;
LOCATION:Fairmont Park 649 Parkview Circle Pacifica\, CA 94044
UID:e.1153.16343
SEQUENCE:3
DTSTAMP:20260424T002856Z
URL:http://pacificachamber.chambermaster.com/events/details/spring-egg-hunt-16343
END:VEVENT

END:VCALENDAR
