BEGIN:VCALENDAR
VERSION:2.0
PRODID:-//ChamberMaster//Event Calendar 2.0//EN
METHOD:PUBLISH
X-PUBLISHED-TTL:P3D
REFRESH-INTERVAL:P3D
CALSCALE:GREGORIAN
BEGIN:VEVENT
DTSTART:20180626T013000Z
DTEND:20180626T030000Z
X-MICROSOFT-CDO-ALLDAYEVENT:FALSE
SUMMARY:Solar Workshop
DESCRIPTION:Peninsula Clean Energy Hosts:\n\nA Solar Workshop\n\n\n\nThinking of going solar? Learn about installing solar panels on your home or business and potentially charging an electric vehicle with our own energy. Meet Pacificans who have had solar on their homes for many years. \n\n\n\nHave solar already? Learn more about your bill with both PF&E andPeninsula Clean Energy's solar programs. Bring your bill fi you have any questions. \n\n\n\nFeatured Speakers:\n\n-Pete Shoemaker of PG&E\n\n-Leslie Brown & Michael Totah of Peninsula Clean Energy
X-ALT-DESC;FMTTYPE=text/html:Peninsula Clean Energy Hosts:<br />\n<strong>A Solar Workshop</strong><br />\n<br />\nThinking of going solar? Learn about installing solar panels on your home or business and potentially charging an electric vehicle with our own energy. Meet Pacificans who have had solar on their homes for many years.&nbsp\;<br />\n<br />\nHave solar already? Learn more about your bill with both PF&amp\;E andPeninsula Clean Energy&#39\;s solar programs. Bring your bill fi you have any questions.&nbsp\;<br />\n<br />\nFeatured Speakers:<br />\n-Pete Shoemaker of PG&amp\;E<br />\n-Leslie Brown &amp\; Michael Totah&nbsp\;of Peninsula Clean Energy<br />\n&nbsp\;
LOCATION:Sharp Park Library 104 Hilton Way Pacifica\, CA 94044
UID:e.1153.17805
SEQUENCE:3
DTSTAMP:20260424T140311Z
URL:http://pacificachamber.chambermaster.com/events/details/solar-workshop-17805
END:VEVENT

END:VCALENDAR
