BEGIN:VCALENDAR
VERSION:2.0
PRODID:-//ChamberMaster//Event Calendar 2.0//EN
METHOD:PUBLISH
X-PUBLISHED-TTL:P3D
REFRESH-INTERVAL:P3D
CALSCALE:GREGORIAN
BEGIN:VEVENT
DTSTART:20180726T163000Z
DTEND:20180726T173000Z
X-MICROSOFT-CDO-ALLDAYEVENT:FALSE
SUMMARY:Senator Jerry Hill: Java w/Jerry
DESCRIPTION:State Senator Jerry Hill - 13th District Cordially Invites you to: \n\nJava with Jerry\n\nJoin Senator Jerry Hill for a cup of coffee and\n\nconversation. Bring your ideas\, questions\, and concerns\n\nabout legislative issues affecting the community.
X-ALT-DESC;FMTTYPE=text/html:State Senator Jerry Hill - 13th District Cordially Invites you to:&nbsp\;<br />\n<em><strong><span style="font-size:16px\;">Java with Jerry</span></strong></em><br />\nJoin Senator Jerry Hill for a cup of coffee and<br />\nconversation. Bring your ideas\, questions\, and concerns<br />\nabout legislative issues affecting the community.
LOCATION:Konditorei 3130 Alpine Rd Portola Valley\, CA
UID:e.1153.18077
SEQUENCE:3
DTSTAMP:20260424T030853Z
URL:http://pacificachamber.chambermaster.com/events/details/senator-jerry-hill-java-w-jerry-18077
END:VEVENT

END:VCALENDAR
