BEGIN:VCALENDAR
VERSION:2.0
PRODID:-//ChamberMaster//Event Calendar 2.0//EN
METHOD:PUBLISH
X-PUBLISHED-TTL:P3D
REFRESH-INTERVAL:P3D
CALSCALE:GREGORIAN
BEGIN:VEVENT
DTSTART:20180806T040000Z
DTEND:20180806T070000Z
X-MICROSOFT-CDO-ALLDAYEVENT:FALSE
SUMMARY:Screen Door Slammers/Scott Yoder
DESCRIPTION:Winters Tavern Presents: Screen Door Slammers/Scott Yoder
X-ALT-DESC;FMTTYPE=text/html:<h1 class="entry-title" itemprop="headline" style="border: 0px\; padding: 0px\; font-family: &quot\;Work Sans&quot\;\, sans-serif\; font-weight: 600\; font-size: 30px\; line-height: 1.2em\; margin: 0px\; caret-color: rgb(255\, 255\, 255)\; color: rgb(255\, 255\, 255)\;"><span style="font-size:14px\;"><span style="font-family:arial\;"><span style="color:#000000\;">Winters Tavern Presents: Screen Door Slammers/Scott Yoder</span></span></span></h1>\n
LOCATION:Winters Tavern: 1522 Francisco Blvd Pacifica\, California
UID:e.1153.18101
SEQUENCE:3
DTSTAMP:20260422T012806Z
URL:http://pacificachamber.chambermaster.com/events/details/screen-door-slammers-scott-yoder-18101
END:VEVENT

END:VCALENDAR
