BEGIN:VCALENDAR
VERSION:2.0
PRODID:-//ChamberMaster//Event Calendar 2.0//EN
METHOD:PUBLISH
X-PUBLISHED-TTL:P3D
REFRESH-INTERVAL:P3D
CALSCALE:GREGORIAN
BEGIN:VEVENT
DTSTART:20180429T210000Z
DTEND:20180430T010000Z
X-MICROSOFT-CDO-ALLDAYEVENT:FALSE
SUMMARY:Rainbow Fest
DESCRIPTION:Pacifica Co-op Nursery Presents:\n\nThe 4th Annual Children's Music & Arts Festival\n\nRAINBOW FEST\n\n\n\nMark your calendars for the fourth annual Rainbow Fest! We have a super exciting lineup this year!\n\n\n\nFeaturing Live Music from Green Room Music and Other Local Artists\n\nChildren's Booths include Full Size Lego Jeep\, Tie Die\, 4-H Animal Booth\, DIY Sand Art\, Face Painting\, Pottery Wheel\, Bubble Making\, Food\, Drinks and much more!\n\nBig Ticket Raffle and Silent Auction \n\nThis is a public event benefiting the Pacifica Co-Op Nursery School
X-ALT-DESC;FMTTYPE=text/html:<p>Pacifica Co-op Nursery Presents:<br />\nThe 4th&nbsp\;Annual Children&#39\;s Music &amp\; Arts Festival<br />\n<strong>RAINBOW FEST</strong><br />\n<br />\n<span style="color: rgb(75\, 79\, 86)\; font-family: Helvetica\, Arial\, sans-serif\; font-size: 14px\;">Mark your calendars for the fourth&nbsp\;annual Rainbow Fest! We have a super exciting lineup this year!</span><br style="color: rgb(75\, 79\, 86)\; font-family: Helvetica\, Arial\, sans-serif\; font-size: 14px\;" />\n<br style="color: rgb(75\, 79\, 86)\; font-family: Helvetica\, Arial\, sans-serif\; font-size: 14px\;" />\n<span style="font-size:14px\;"><span style="background-image:initial\;background-position:initial\;background-size:initial\;background-repeat:initial\;background-attachment:initial\;background-origin:initial\;background-clip:initial\;"><span style="color:black\;"><span style="font-family:arial\,sans-serif\;">Featuring Live Music from Green Room Music and Other Local Artists<br style="box-sizing:border-box\;" />\nChildren&rsquo\;s Booths include Full Size Lego Jeep\, Tie Die\, 4-H Animal Booth\, DIY Sand Art\, Face Painting\, Pottery Wheel\, Bubble Making\, Food\, Drinks and much more!<br style="box-sizing:border-box\;" />\nBig Ticket Raffle and Silent Auction&nbsp\;<br style="box-sizing:border-box\;" />\nThis is a public event benefiting the&nbsp\;Pacifica Co-Op&nbsp\;Nursery School</span></span></span></span><br style="box-sizing:border-box\;" />\n<br />\n<br />\n<br />\n&nbsp\;</p>\n
LOCATION:Mildred Owen Concert Hall 1220 Linda Mar Blvd Pacifica\, CA 94044
UID:e.1153.17786
SEQUENCE:3
DTSTAMP:20260423T230012Z
URL:http://pacificachamber.chambermaster.com/events/details/rainbow-fest-17786
END:VEVENT

END:VCALENDAR
