BEGIN:VCALENDAR
VERSION:2.0
PRODID:-//ChamberMaster//Event Calendar 2.0//EN
METHOD:PUBLISH
X-PUBLISHED-TTL:P3D
REFRESH-INTERVAL:P3D
CALSCALE:GREGORIAN
BEGIN:VEVENT
DTSTART:20180711T030000Z
DTEND:20180711T043000Z
X-MICROSOFT-CDO-ALLDAYEVENT:FALSE
SUMMARY:Quiz Night
DESCRIPTION:Quizmistress Sandy has a way with trivia. Join us for an evening of trivia from around the world - 5 categories. Teams of up to 5 people. Great prizes! Cheap fun (only $1 per person). Join us!
X-ALT-DESC;FMTTYPE=text/html:<span style="font-size:14px\;"><span style="color: rgb(45\, 45\, 45)\; font-family: Lato\, Helvetica\, Arial\, Lucida\, sans-serif\; background-color: rgb(252\, 250\, 251)\;">Quizmistress Sandy has a way with trivia. Join us for an evening of trivia from around the world - 5 categories. Teams of up to 5 people. Great prizes! Cheap fun (only $1 per person). Join us!</span></span>
LOCATION:A Grape in the Fog Wine Bar\; 400 Old County Rd\; Pacifica CA 94044
UID:e.1153.17825
SEQUENCE:3
DTSTAMP:20260422T220636Z
URL:http://pacificachamber.chambermaster.com/events/details/quiz-night-17825
END:VEVENT

END:VCALENDAR
