BEGIN:VCALENDAR
VERSION:2.0
PRODID:-//ChamberMaster//Event Calendar 2.0//EN
METHOD:PUBLISH
X-PUBLISHED-TTL:P3D
REFRESH-INTERVAL:P3D
CALSCALE:GREGORIAN
BEGIN:VEVENT
DTSTART:20180819T023000Z
DTEND:20180819T043000Z
X-MICROSOFT-CDO-ALLDAYEVENT:FALSE
SUMMARY:Pacifica Performances: Jesse Cobb
DESCRIPTION:Pacifica Performances Presents: Jesse Cobb\n\nFor the past decade\, Jesse has been known as one of the Bay Area's top young guitarists. Besides playing rock gigs with his dad in the Chris Cobb Band\, he has developed his own versatile style\, playing everything from blues and country to rock and jazz. With his own band\, he will showcase his unique take on all his music and will be will be performing originals from his new EP\, Nasty\, Brutish\, Short\, as well as inviting up several special guests for some all-star jams.
X-ALT-DESC;FMTTYPE=text/html:Pacifica Performances Presents: Jesse Cobb<br />\n<span background-color:="" font-size:="" helvetica="" sans="" source="" style="color: rgb(64\, 64\, 64)\; font-family: ">For the past decade\, Jesse has been known as one of the Bay Area&rsquo\;s top young guitarists. Besides playing rock gigs with his dad in the Chris Cobb Band\, he has developed his own versatile style\, playing everything from blues and country to rock and jazz. With his own band\, he will showcase his unique take on all his music and will be&nbsp\;will be performing originals from his new EP\, Nasty\, Brutish\, Short\, as well as inviting up several special guests for some all-star jams.</span>
LOCATION:Pacifica Performances 1220 Linda Mar Blvd Pacifica\, California
UID:e.1153.18125
SEQUENCE:3
DTSTAMP:20260421T150157Z
URL:http://pacificachamber.chambermaster.com/events/details/pacifica-performances-jesse-cobb-18125
END:VEVENT

END:VCALENDAR
