BEGIN:VCALENDAR
VERSION:2.0
PRODID:-//ChamberMaster//Event Calendar 2.0//EN
METHOD:PUBLISH
X-PUBLISHED-TTL:P3D
REFRESH-INTERVAL:P3D
CALSCALE:GREGORIAN
BEGIN:VEVENT
DTSTART:20180411T013000Z
DTEND:20180411T030000Z
X-MICROSOFT-CDO-ALLDAYEVENT:FALSE
SUMMARY:Native Plant Program - Aesthetic Pruning
DESCRIPTION:Native Plant Program - Aesthetic Pruning \nA native garden looks most pleasing when it has a human touch. Shrubs and trees are at their best with occasional pruning and shaping. During this presentation\, you'll learn about the different forms of many native plants and how to bring out their best characteristics and health\, through proper pruning. Jocelyn Cohen has extensive experience with land restoration\, tree care\, aesthetic pruning\, organic gardening\, and soil rebuilding. She teaches workshops at the East Bay Regional Parks Botanic Garden.
X-ALT-DESC;FMTTYPE=text/html:<h1 class="entity-card-title" style="box-sizing: border-box\; font-size: 22px\; margin: 0px 0px 8px\; font-family: system-ui\, -apple-system\, BlinkMacSystemFont\, HelveticaNeue-Medium\, &quot\;Helvetica Neue Medium&quot\;\, Helvetica-Bold\, Roboto-Medium\, &quot\;Segoe UI Semibold&quot\;\, Arial-Bold\, sans-serif\; line-height: 26px\;"><span style="font-size:14px\;"><strong>Native Plant Program - Aesthetic Pruning&nbsp\;</strong></span></h1>\n<span style="font-family: system-ui\, -apple-system\, BlinkMacSystemFont\, HelveticaNeue\, &quot\;Helvetica Neue&quot\;\, Helvetica\, Roboto\, &quot\;Segoe UI&quot\;\, Arial\, sans-serif\; font-size: 14px\; white-space: pre-wrap\;">A native garden looks most pleasing when it has a human touch. Shrubs and trees are at their best with occasional pruning and shaping. During this presentation\, you&rsquo\;ll learn about the different forms of many native plants and how to bring out their best characteristics and health\, through proper pruning. Jocelyn Cohen has extensive experience with land restoration\, tree care\, aesthetic pruning\, organic gardening\, and soil rebuilding. She teaches workshops at the East Bay Regional Parks Botanic Garden. </span>
LOCATION:Sharp Park Library 104 Hilton Way Pacifica\, Ca 94044
UID:e.1153.17255
SEQUENCE:3
DTSTAMP:20260422T184414Z
URL:http://pacificachamber.chambermaster.com/events/details/native-plant-program-aesthetic-pruning-17255
END:VEVENT

END:VCALENDAR
