BEGIN:VCALENDAR
VERSION:2.0
PRODID:-//ChamberMaster//Event Calendar 2.0//EN
METHOD:PUBLISH
X-PUBLISHED-TTL:P3D
REFRESH-INTERVAL:P3D
CALSCALE:GREGORIAN
BEGIN:VEVENT
DTSTART:20180807T023000Z
DTEND:20180807T040000Z
X-MICROSOFT-CDO-ALLDAYEVENT:FALSE
SUMMARY:Monday Meditation Group
DESCRIPTION:Florey's Book Co. Presents:\n\nMonday Meditation Group- A guided meditation with Bruce Tassi and Amy Hanley\n\nMondays\, 7:30-9:00pm
X-ALT-DESC;FMTTYPE=text/html:<span style="color:#000000\;"><span style="font-family:arial\;">Florey&#39\;s Book Co. Presents:<br />\nMonday Meditation Group-&nbsp\;<span background-color:="" font-size:="" palatino="">A guided meditation with Bruce Tassi and Amy Hanley</span><br background-color:="" font-size:="" palatino="" style="color: rgb(34\, 34\, 34)\; font-family: Georgia\, Utopia\, " />\n<span background-color:="" font-size:="" palatino="">Mondays\, 7:30-9:00pm</span></span></span>&nbsp\;&nbsp\;&nbsp\;&nbsp\;
LOCATION:Florey's Book Co. 2120 Palmetto Ave. Pacifica\, CA 94044
UID:e.1153.18108
SEQUENCE:3
DTSTAMP:20260421T035032Z
URL:http://pacificachamber.chambermaster.com/events/details/monday-meditation-group-18108
END:VEVENT

END:VCALENDAR
