BEGIN:VCALENDAR
VERSION:2.0
PRODID:-//ChamberMaster//Event Calendar 2.0//EN
METHOD:PUBLISH
X-PUBLISHED-TTL:P3D
REFRESH-INTERVAL:P3D
CALSCALE:GREGORIAN
BEGIN:VEVENT
DTSTART:20180713T210000Z
DTEND:20180713T230000Z
X-MICROSOFT-CDO-ALLDAYEVENT:FALSE
SUMMARY:Let's Make A Comic Book!
DESCRIPTION:Learn to make your own mini comic with artist Brian Kolm. For families with children in grades 1-5. Parents/caregivers are welcome and encouraged to attend with their children. Children 8 and under will need help from an adult. Space is limited. Secure your spot by signing up online.\n\nhttps://bit.ly/2Jylxvg
X-ALT-DESC;FMTTYPE=text/html:<div class="_63eu" style="box-sizing: border-box\; font-size: 14px\; max-height: 260px\; overflow: hidden\; padding: 12px\; word-wrap: break-word\; font-family: Helvetica\, Arial\, sans-serif\; color: rgb(29\, 33\, 41)\;">\n<div class="_63ew" data-testid="event-permalink-details" style="font-family: inherit\;"><span style="font-family: inherit\;">Learn to make your own mini comic with artist Brian Kolm. For families with children in grades 1-5. Parents/caregivers are welcome and encouraged to attend with their children. Children 8 and under will need help from an adult. Space is limited. Secure your spot by signing up online.<br />\n<a href="https://l.facebook.com/l.php?u=https%3A%2F%2Fbit.ly%2F2Jylxvg&amp\;h=AT0sHGPMV7HIf6YSej69EX0hXPSzFPAVHA_CViXqL_nAs1QeOqxrSP8uMT6a4Y1l-_BTN7P1iHrNUwkRLlkxMcKRfZFC1QvoQ5RzqmaF0g_CP7SS5zAL5xGHlhIdQlzTXiKLFBxHuuqPEKOnitAC&amp\;s=1" style="color: rgb(54\, 88\, 153)\; cursor: pointer\; text-decoration-line: none\; font-family: inherit\;" target="_blank">https://bit.ly/2Jylxvg</a></span></div>\n\n<div>&nbsp\;</div>\n</div>\n
LOCATION:Pacifica Sanchez Library 1111 Terra Nova Blvd Pacifica CA 94044
UID:e.1153.18030
SEQUENCE:3
DTSTAMP:20260422T125816Z
URL:http://pacificachamber.chambermaster.com/events/details/let-s-make-a-comic-book-18030
END:VEVENT

END:VCALENDAR
