BEGIN:VCALENDAR
VERSION:2.0
PRODID:-//ChamberMaster//Event Calendar 2.0//EN
METHOD:PUBLISH
X-PUBLISHED-TTL:P3D
REFRESH-INTERVAL:P3D
CALSCALE:GREGORIAN
BEGIN:VEVENT
DTSTART:20180810T003000Z
DTEND:20180810T023000Z
X-MICROSOFT-CDO-ALLDAYEVENT:FALSE
SUMMARY:Help Shape California
DESCRIPTION:Help Shape California- Have you ever wanted to make a positive difference in your community\, but weren't sure how?\n\n\n\nSpeaker Anthony Rendon and Speaker pro Tempore Kevin Mullin\, are hosting an appointments workshop to actively engage our community in the appointments application process. Appointments provide an opportunity for civic engagement and the chance to enrich the lives of all Californians. We hope that you will join us for an open discussion on the best practices for successfully applying to the state boards and commissions. \n\n\n\n\n\nOrganized in partnership with:\n\n	League of California Cities Asian Pacific Islander Caucus\n	APIs Mobilize\n	Speaker's Office of Appointments
X-ALT-DESC;FMTTYPE=text/html:Help Shape California- Have you ever wanted to make a positive difference in your community\, but weren&#39\;t&nbsp\;sure how?<br />\n<br />\nSpeaker <strong>Anthony Rendon </strong>and Speaker pro <strong>Tempore Kevin Mullin</strong>\, are hosting an appointments workshop to actively engage our community in the appointments application process. Appointments provide an opportunity for civic engagement and the chance to enrich the lives of all Californians. We hope that you will join us for an open discussion on the best practices for successfully applying to the state boards and commissions.&nbsp\;<br />\n<br />\n<br />\nOrganized in partnership with:\n<ul>\n	<li>League of California Cities Asian Pacific Islander Caucus</li>\n	<li>APIs Mobilize</li>\n	<li>Speaker&#39\;s Office of Appointments</li>\n</ul>\n<br />\n&nbsp\;
LOCATION:San Mateo County History Museum Courtroom A 2200 Broadway St. Redwood City CA
UID:e.1153.18065
SEQUENCE:3
DTSTAMP:20260420T200851Z
URL:http://pacificachamber.chambermaster.com/events/details/help-shape-california-18065
END:VEVENT

END:VCALENDAR
