BEGIN:VCALENDAR
VERSION:2.0
PRODID:-//ChamberMaster//Event Calendar 2.0//EN
METHOD:PUBLISH
X-PUBLISHED-TTL:P3D
REFRESH-INTERVAL:P3D
CALSCALE:GREGORIAN
BEGIN:VEVENT
DTSTART:20180324T193000Z
DTEND:20180324T213000Z
X-MICROSOFT-CDO-ALLDAYEVENT:FALSE
SUMMARY:Happy Hips
DESCRIPTION:Happy Hips! With Jackie Rosenheim\n\n\nThis workshop will focus on the mysterious hip joints- what Jackie believes to be the gateway to a healthy\, happy body. You will be guided through a sequence that will encourage the release of muscle tension and\n\nstress stored in the hips\, promote hip stability and\n\nflexibility\, improve posture\, and help unlock negative\n\nemotions which are often stored in the hips. This\n\nworkshop is for all-levels. Beginners welcome!\n\n\n\n$35 until 3/17\, $40 after\n\nPreregistration with 24 hour cancellation notice is required.
X-ALT-DESC;FMTTYPE=text/html:<h1 class="_5gmx" data-testid="event-permalink-event-name" id="seo_h1_tag" style="color: rgb(29\, 33\, 41)\; font-size: 20px\; margin: 0px 12px 0px 0px\; padding: 0px\; line-height: 28px\; font-family: Helvetica\, Arial\, sans-serif\;"><span style="font-size:14px\;"><strong>Happy Hips! With Jackie Rosenheim</strong></span></h1>\n<br />\n<span style="color: rgb(75\, 79\, 86)\; font-family: Helvetica\, Arial\, sans-serif\; font-size: 14px\;">This workshop will focus on the mysterious hip joints- what Jackie believes to be the gateway to a healthy\, happy body. You will be guided through a sequence that will encourage the release of muscle tension and</span><br style="color: rgb(75\, 79\, 86)\; font-family: Helvetica\, Arial\, sans-serif\; font-size: 14px\;" />\n<span style="color: rgb(75\, 79\, 86)\; font-family: Helvetica\, Arial\, sans-serif\; font-size: 14px\;">stress stored in the hips\, promote hip stability and</span><br style="color: rgb(75\, 79\, 86)\; font-family: Helvetica\, Arial\, sans-serif\; font-size: 14px\;" />\n<span style="color: rgb(75\, 79\, 86)\; font-family: Helvetica\, Arial\, sans-serif\; font-size: 14px\;">flexibility\, improve posture\, and help unlock negative</span><br style="color: rgb(75\, 79\, 86)\; font-family: Helvetica\, Arial\, sans-serif\; font-size: 14px\;" />\n<span style="color: rgb(75\, 79\, 86)\; font-family: Helvetica\, Arial\, sans-serif\; font-size: 14px\;">emotions which are often stored in the hips. This</span><br style="color: rgb(75\, 79\, 86)\; font-family: Helvetica\, Arial\, sans-serif\; font-size: 14px\;" />\n<span style="color: rgb(75\, 79\, 86)\; font-family: Helvetica\, Arial\, sans-serif\; font-size: 14px\;">workshop is for all-levels. Beginners welcome!</span><br style="color: rgb(75\, 79\, 86)\; font-family: Helvetica\, Arial\, sans-serif\; font-size: 14px\;" />\n<br style="color: rgb(75\, 79\, 86)\; font-family: Helvetica\, Arial\, sans-serif\; font-size: 14px\;" />\n<span style="color: rgb(75\, 79\, 86)\; font-family: Helvetica\, Arial\, sans-serif\; font-size: 14px\;">$35 until 3/17\, $40 after</span><br style="color: rgb(75\, 79\, 86)\; font-family: Helvetica\, Arial\, sans-serif\; font-size: 14px\;" />\n<span style="color: rgb(75\, 79\, 86)\; font-family: Helvetica\, Arial\, sans-serif\; font-size: 14px\;">Preregistration with 24 hour cancellation notice is required.</span>
LOCATION:Ocean Yoga 90 Eureka Square Shopping Center Pacifica\, CA 94044
UID:e.1153.17269
SEQUENCE:3
DTSTAMP:20260423T030959Z
URL:http://pacificachamber.chambermaster.com/events/details/happy-hips-17269
END:VEVENT

END:VCALENDAR
