BEGIN:VCALENDAR
VERSION:2.0
PRODID:-//ChamberMaster//Event Calendar 2.0//EN
METHOD:PUBLISH
X-PUBLISHED-TTL:P3D
REFRESH-INTERVAL:P3D
CALSCALE:GREGORIAN
BEGIN:VEVENT
DTSTART:20180629T190000Z
DTEND:20180630T020000Z
X-MICROSOFT-CDO-ALLDAYEVENT:FALSE
SUMMARY:Fireworks Stand
DESCRIPTION:Pacifica Chamber of Commerce present Safe & Sane Fireworks!\n\n\n\nCome purchase your fireworks for the 4th of July at your local fireworks stand!\n\nCall 650-355-4122 for Pre-Sale Fireworks Coupons
X-ALT-DESC;FMTTYPE=text/html:Pacifica Chamber of Commerce present Safe &amp\; Sane Fireworks!<br />\n<br />\nCome purchase your fireworks for the 4th of July at your local fireworks stand!<br />\nCall 650-355-4122 for Pre-Sale Fireworks Coupons
LOCATION:West Manor Drive\, Pacifica Next to Seaview Tire and Brake Center
UID:e.1153.17978
SEQUENCE:3
DTSTAMP:20260422T220636Z
URL:http://pacificachamber.chambermaster.com/events/details/fireworks-stand-17978
END:VEVENT

END:VCALENDAR
