BEGIN:VCALENDAR
VERSION:2.0
PRODID:-//ChamberMaster//Event Calendar 2.0//EN
METHOD:PUBLISH
X-PUBLISHED-TTL:P3D
REFRESH-INTERVAL:P3D
CALSCALE:GREGORIAN
BEGIN:VEVENT
DTSTART:20180712T160000Z
DTEND:20180712T172500Z
X-MICROSOFT-CDO-ALLDAYEVENT:FALSE
SUMMARY:Business Networking
DESCRIPTION:Business Networking w/BNI Coastside\n\n\n\nJoin Business Networking International (BNI) Coastside every Thursday (no Nov. 2018 meetings)\, at A Grape in the Fog to network with other businesses and get B2B referrals. Only $25 for priceless business connections. \n\n\n\nBring you business cards! \n\n\n\nPlease arrive at 8:45am to sign in and network!\n\nPlease Note: July 19th date will be held at Puerto 27 Restaurant -  525 Crespi Dr.\, Pacifica
X-ALT-DESC;FMTTYPE=text/html:<strong>Business Networking w/BNI&nbsp\;Coastside</strong><br />\n<br />\nJoin Business Networking International (BNI) Coastside&nbsp\;every Thursday (no Nov. 2018 meetings)\, at A Grape in the Fog to network with other businesses and get B2B&nbsp\;referrals. Only $25 for priceless business connections.&nbsp\;<br />\n<br />\nBring you business cards!&nbsp\;<br />\n<br />\nPlease arrive at 8:45am to sign in and network!<br />\nPlease Note:&nbsp\;July 19th date will be held at Puerto 27 Restaurant -&nbsp\;&nbsp\;525 Crespi Dr.\, Pacifica
LOCATION:A Grape in the Fog 400 Old County Rd Pacifica\, CA 94044 *Please Note: The July 19th date will be held at Puerto 27 Restaurant - 525 Crespi Dr.\, Pacifica
UID:e.1153.18062
SEQUENCE:3
DTSTAMP:20260422T144135Z
URL:http://pacificachamber.chambermaster.com/events/details/business-networking-18062
END:VEVENT

END:VCALENDAR
