BEGIN:VCALENDAR
VERSION:2.0
PRODID:-//ChamberMaster//Event Calendar 2.0//EN
METHOD:PUBLISH
X-PUBLISHED-TTL:P3D
REFRESH-INTERVAL:P3D
CALSCALE:GREGORIAN
BEGIN:VEVENT
DTSTART:20180410T223000Z
DTEND:20180410T233000Z
X-MICROSOFT-CDO-ALLDAYEVENT:FALSE
SUMMARY:Bridge Builders Workshop
DESCRIPTION:Bridge Builders Workshop\nJoin us at the Pacifica Sharp Park Library for the Bay Area Discovery Museum's Bridge Builders Workshop. Young engineers will engage directly with the engineering design process\, as they work collaboratively and independently to explore\, build\, and try out bridges\, then make them even better! This workshop is for preschool age children. Registration required.
X-ALT-DESC;FMTTYPE=text/html:<h1 class="entity-card-title" style="box-sizing: border-box\; font-size: 22px\; margin: 0px 0px 8px\; font-family: system-ui\, -apple-system\, BlinkMacSystemFont\, HelveticaNeue-Medium\, &quot\;Helvetica Neue Medium&quot\;\, Helvetica-Bold\, Roboto-Medium\, &quot\;Segoe UI Semibold&quot\;\, Arial-Bold\, sans-serif\; line-height: 26px\;"><span style="font-size:14px\;"><strong>Bridge Builders Workshop</strong></span></h1>\n<span style="font-family: system-ui\, -apple-system\, BlinkMacSystemFont\, HelveticaNeue\, &quot\;Helvetica Neue&quot\;\, Helvetica\, Roboto\, &quot\;Segoe UI&quot\;\, Arial\, sans-serif\; font-size: 14px\; white-space: pre-wrap\;">Join us at the Pacifica Sharp Park Library for the Bay Area Discovery Museum&#39\;s Bridge Builders Workshop. Young engineers will engage directly with the engineering design process\, as they work collaboratively and independently to explore\, build\, and try out bridges\, then make them even better! This workshop is for preschool age children. Registration required. </span>
LOCATION:Sharp Park Library 104 Hilton Way Pacifica\, Ca 94044
UID:e.1153.17254
SEQUENCE:3
DTSTAMP:20260423T024915Z
URL:http://pacificachamber.chambermaster.com/events/details/bridge-builders-workshop-17254
END:VEVENT

END:VCALENDAR
