BEGIN:VCALENDAR
VERSION:2.0
PRODID:-//ChamberMaster//Event Calendar 2.0//EN
METHOD:PUBLISH
X-PUBLISHED-TTL:P3D
REFRESH-INTERVAL:P3D
CALSCALE:GREGORIAN
BEGIN:VEVENT
DTSTART:20180627T220000Z
DTEND:20180627T230000Z
X-MICROSOFT-CDO-ALLDAYEVENT:FALSE
SUMMARY:African Drumming
DESCRIPTION:Join us on a journey to Africa and participate in an African Village Celebration. Learn about the culture\, music and dance from Onye Onyemaechi\, a world-renowned master percussionist and performing musician. Be a part of this high energy and educational experience. For all ages.
X-ALT-DESC;FMTTYPE=text/html:<span style="color: rgb(29\, 33\, 41)\; font-family: Helvetica\, Arial\, sans-serif\; font-size: 14px\;">Join us on a journey to Africa and participate in an African Village Celebration. Learn about the culture\, music and dance from Onye Onyemaechi\, a world-renowned master percussionist and performing musician. Be a part of this high energy and educational experience. For all ages.</span>
LOCATION:Pacifica Sanchez Library 1111 Terra Nova Blvd Pacifica CA 94044
UID:e.1153.18028
SEQUENCE:3
DTSTAMP:20260424T015618Z
URL:http://pacificachamber.chambermaster.com/events/details/african-drumming-18028
END:VEVENT

END:VCALENDAR
